BEGIN:VCALENDAR
VERSION:2.0
PRODID:-//ISSIP - ECPv6.15.17.1//NONSGML v1.0//EN
CALSCALE:GREGORIAN
METHOD:PUBLISH
X-WR-CALNAME:ISSIP
X-ORIGINAL-URL:https://issip.org
X-WR-CALDESC:Events for ISSIP
REFRESH-INTERVAL;VALUE=DURATION:PT1H
X-Robots-Tag:noindex
X-PUBLISHED-TTL:PT1H
BEGIN:VTIMEZONE
TZID:America/Los_Angeles
BEGIN:DAYLIGHT
TZOFFSETFROM:-0800
TZOFFSETTO:-0700
TZNAME:PDT
DTSTART:20230312T100000
END:DAYLIGHT
BEGIN:STANDARD
TZOFFSETFROM:-0700
TZOFFSETTO:-0800
TZNAME:PST
DTSTART:20231105T090000
END:STANDARD
BEGIN:DAYLIGHT
TZOFFSETFROM:-0800
TZOFFSETTO:-0700
TZNAME:PDT
DTSTART:20240310T100000
END:DAYLIGHT
BEGIN:STANDARD
TZOFFSETFROM:-0700
TZOFFSETTO:-0800
TZNAME:PST
DTSTART:20241103T090000
END:STANDARD
BEGIN:DAYLIGHT
TZOFFSETFROM:-0800
TZOFFSETTO:-0700
TZNAME:PDT
DTSTART:20250309T100000
END:DAYLIGHT
BEGIN:STANDARD
TZOFFSETFROM:-0700
TZOFFSETTO:-0800
TZNAME:PST
DTSTART:20251102T090000
END:STANDARD
END:VTIMEZONE
BEGIN:VEVENT
DTSTART;TZID=America/Los_Angeles:20241030T110000
DTEND;TZID=America/Los_Angeles:20241030T120000
DTSTAMP:20260422T065611
CREATED:20240920T172136Z
LAST-MODIFIED:20241025T134513Z
UID:10000093-1730286000-1730289600@issip.org
SUMMARY:2024 Industry Transformation Series: Retail & Hospitality
DESCRIPTION:[vc_row remove_bottom_col_margin=”true”][vc_column][vc_column_text]Engineering the 21st Century Service Economy\, a PSU/ISSIP Series \nPlease register and join us for the fourth in a series of ISSIP events on the transformation of industry sectors in the AI Era (register here\, all who register will receive a link to the recording\, even if you cannot attend the online session live). \nHow will we measure business and societal progress across industry sectors over the next two decades? Through a survey and series of events with industry sector subject-matter-experts\, ISSIP & PSU have partnered to explore the transformation of industry sectors and how to measure progress.[/vc_column_text][/vc_column][/vc_row][vc_row][vc_column][vc_column_text]\nCo-hosts\n[/vc_column_text][/vc_column][/vc_row][vc_row][vc_column width=”1/4″][vc_column_text]\n \nJim Spohrer\nISSIP \n[/vc_column_text][/vc_column][vc_column width=”1/4″][/vc_column][vc_column width=”1/4″][vc_column_text] \nVittal Prabhu\nPenn State University\, Industrial & Manufacturing Engineering\, Service Systems Engineering \n[/vc_column_text][/vc_column][vc_column width=”1/4″][/vc_column][/vc_row][vc_row][vc_column][vc_column_text]\nPanelists with Interviews\n[/vc_column_text][/vc_column][/vc_row][vc_row][vc_column width=”1/4″][vc_column_text] \nJoy Field\nBoston College\, USA (https://www.linkedin.com/in/joy-field-88a67a/) \nInterview: https://youtu.be/fVbQO2tVvNk \nAuthor of “Designing Service Processes to Unlock Value\, Fourth Edition” \n[/vc_column_text][/vc_column][vc_column width=”1/4″][/vc_column][vc_column width=”1/4″][vc_column_text] \nHaluk Demirkan\nAmazon & U Washington Tacoma\, USA\n(https://www.linkedin.com/in/halukdemirkan/) \nInterview: https://youtu.be/K5NmSgBWYrU \n[/vc_column_text][/vc_column][vc_column width=”1/4″][/vc_column][/vc_row][vc_row][vc_column][vc_column_text]\nInterviews\n[/vc_column_text][/vc_column][/vc_row][vc_row][vc_column width=”1/4″][vc_column_text] \nMariana Sigala\nU Newcastle\, Australia\n(https://www.linkedin.com/in/mariannasigala/) \nInterview:\nhttps://youtu.be/KMHcDTPXha4 \n[/vc_column_text][/vc_column][vc_column width=”1/4″][/vc_column][vc_column width=”1/4″][vc_column_text] \nMark Anderson\nCognitive Edge\,\nNew Zealand\n(https://www.linkedin.com/in/vmarkanderson/) \n[/vc_column_text][/vc_column][vc_column width=”1/4″][/vc_column][/vc_row][vc_row][vc_column][vc_column_text]\nFor more information about the series and this specific event\, please see this ISSIP blog post.  Please feel free to contribute by taking the survey. See also TBD.\n[/vc_column_text][/vc_column][/vc_row]
URL:https://issip.org/event/2024-industry-transformation-series-retail-hospitality/
CATEGORIES:Conferences,Discovery Summits
ATTACH;FMTTYPE=image/png:https://issip.org/wp-content/uploads/2024/09/96890e7f-5b7d-2a9b-df14-8619ae34d3d8.png
END:VEVENT
END:VCALENDAR