BEGIN:VCALENDAR
VERSION:2.0
PRODID:-//ISSIP - ECPv6.15.17.1//NONSGML v1.0//EN
CALSCALE:GREGORIAN
METHOD:PUBLISH
X-WR-CALNAME:ISSIP
X-ORIGINAL-URL:https://issip.org
X-WR-CALDESC:Events for ISSIP
REFRESH-INTERVAL;VALUE=DURATION:PT1H
X-Robots-Tag:noindex
X-PUBLISHED-TTL:PT1H
BEGIN:VTIMEZONE
TZID:Europe/London
BEGIN:DAYLIGHT
TZOFFSETFROM:+0000
TZOFFSETTO:+0100
TZNAME:BST
DTSTART:20240331T010000
END:DAYLIGHT
BEGIN:STANDARD
TZOFFSETFROM:+0100
TZOFFSETTO:+0000
TZNAME:GMT
DTSTART:20241027T010000
END:STANDARD
BEGIN:DAYLIGHT
TZOFFSETFROM:+0000
TZOFFSETTO:+0100
TZNAME:BST
DTSTART:20250330T010000
END:DAYLIGHT
BEGIN:STANDARD
TZOFFSETFROM:+0100
TZOFFSETTO:+0000
TZNAME:GMT
DTSTART:20251026T010000
END:STANDARD
BEGIN:DAYLIGHT
TZOFFSETFROM:+0000
TZOFFSETTO:+0100
TZNAME:BST
DTSTART:20260329T010000
END:DAYLIGHT
BEGIN:STANDARD
TZOFFSETFROM:+0100
TZOFFSETTO:+0000
TZNAME:GMT
DTSTART:20261025T010000
END:STANDARD
END:VTIMEZONE
BEGIN:VEVENT
DTSTART;VALUE=DATE:20250512
DTEND;VALUE=DATE:20250515
DTSTAMP:20260421T015017
CREATED:20250124T151546Z
LAST-MODIFIED:20250124T151546Z
UID:10000105-1747008000-1747267199@issip.org
SUMMARY:2025 Spring Servitization Conference and Doctoral Symposium
DESCRIPTION:The University of Liverpool Management School is thrilled to host the 2025 Spring Servitization Conference (SSC2025)\, the biggest and longest-running research conference on servitization established in 2010. \nWith the overall theme\, ‘Evidencing Productivity and Sustainability through Servitization: The Role of Suppliers\, Intermediaries\, Customers and Competitors‘\, SSC2025 will bring together the world’s leading researchers\, practitioners and doctoral students to debate and engage with the theory and practice of servitization. \nSSC2025 will comprise the Servitization Doctoral Symposium (Monday 12th May) and the main Spring Servitization Conference (Tues 13th and Weds 14th May 2025). \nOn Monday 12th May\, we will host our doctoral symposium for PhD students whose research focuses on topics related to servitization (including Product-Service Systems\, services-centric business models\, and service-dominant logic\, etc.). \nOn Tuesday 13th and Wednesday 14th May\, we will follow the established format of a single stream where contributors have an opportunity to present to the whole conference audience and engage in both structured and semi-structured panel sessions to discuss their work. The programme is designed to encourage extensive debate and bridge research theory and industrial practice. The conference will also feature keynotes from senior executives from leading manufacturing businesses. We will also dedicate some sessions to the early stage research which comprise interactive keynotes by leading academics in the field\, debates around emergent research themes\, and poster reviews of proposed projects and doctoral research. A certificate of attendance will be provided on request after the conference by email to the conference organising team.
URL:https://issip.org/event/2025-spring-servitization-conference-and-doctoral-symposium/
CATEGORIES:Conferences
ATTACH;FMTTYPE=image/png:https://issip.org/wp-content/uploads/2025/01/Spring-servitization.png
END:VEVENT
END:VCALENDAR