BEGIN:VCALENDAR
VERSION:2.0
PRODID:-//ISSIP - ECPv6.15.17.1//NONSGML v1.0//EN
CALSCALE:GREGORIAN
METHOD:PUBLISH
X-WR-CALNAME:ISSIP
X-ORIGINAL-URL:https://issip.org
X-WR-CALDESC:Events for ISSIP
REFRESH-INTERVAL;VALUE=DURATION:PT1H
X-Robots-Tag:noindex
X-PUBLISHED-TTL:PT1H
BEGIN:VTIMEZONE
TZID:America/Los_Angeles
BEGIN:DAYLIGHT
TZOFFSETFROM:-0800
TZOFFSETTO:-0700
TZNAME:PDT
DTSTART:20240310T100000
END:DAYLIGHT
BEGIN:STANDARD
TZOFFSETFROM:-0700
TZOFFSETTO:-0800
TZNAME:PST
DTSTART:20241103T090000
END:STANDARD
BEGIN:DAYLIGHT
TZOFFSETFROM:-0800
TZOFFSETTO:-0700
TZNAME:PDT
DTSTART:20250309T100000
END:DAYLIGHT
BEGIN:STANDARD
TZOFFSETFROM:-0700
TZOFFSETTO:-0800
TZNAME:PST
DTSTART:20251102T090000
END:STANDARD
BEGIN:DAYLIGHT
TZOFFSETFROM:-0800
TZOFFSETTO:-0700
TZNAME:PDT
DTSTART:20260308T100000
END:DAYLIGHT
BEGIN:STANDARD
TZOFFSETFROM:-0700
TZOFFSETTO:-0800
TZNAME:PST
DTSTART:20261101T090000
END:STANDARD
END:VTIMEZONE
BEGIN:VEVENT
DTSTART;TZID=America/Los_Angeles:20250513T070000
DTEND;TZID=America/Los_Angeles:20250513T080000
DTSTAMP:20260420T060958
CREATED:20250325T141718Z
LAST-MODIFIED:20250508T194925Z
UID:10000109-1747119600-1747123200@issip.org
SUMMARY:Which service systems are changing with globalization/deglobalization?
DESCRIPTION:[vc_row][vc_column][vc_column_text]\nChairs:  David Ing and Gary Metcalf. ISSIP Ambassadors to Creative Systemic Research Platform Institute (CSRP Institute)  \n[/vc_column_text][/vc_column][/vc_row][vc_row][vc_column width=”1/4″][vc_single_image image=”16070″ alignment=”center”][vc_column_text]\nDiscussant:\nGary Metcalf\n[/vc_column_text][/vc_column][vc_column width=”1/4″][vc_single_image image=”16062″ alignment=”center”][vc_column_text]\nDiscussant:\nDavid Ing \n[/vc_column_text][/vc_column][vc_column width=”1/4″][vc_single_image image=”17567″ alignment=”center”][vc_column_text]\nDiscussant:\nMike Wing\n[/vc_column_text][/vc_column][vc_column width=”1/4″][vc_single_image image=”17505″ alignment=”center”][vc_column_text]\nModerator:\nZaid Khan\n[/vc_column_text][/vc_column][/vc_row][vc_row][vc_column][vc_column_text]The KOF Economic Institute at ETH Zurich charted globalization with rapid growth through the 1990s\, that now appears to have slowed.  The slope of KOF Globalization Index has flattened through the 2008 Financial Crisis\, the 2020-2021 COVID-19 pandemic\, and responses to the invasion of Ukraine in 2022.  They pose the question:  “Is Globalization at its end?” \n| Year | Index |\n| 1991 | 43.56 |\n| 2001 | 49.58 |\n| 2011 | 55.32 |\n| 2022 | 57.01 | \nThe service economy employed 35.2% of the world in 1991\, and 49.7% of the world in 2022 (International Labour Organization 2025).  Has globalization reached its peak?  Which service systems are likely most impacted by deglobalization?  What is the impact on enterprises and workers? \nJoin this Roundtable on Systems in Services to share perspectives and gain insight collectively.  The Roundtable operates much like a call-in radio show in the analog age.  Discussion is sparked by a few discussants providing a systems lens on services.  A moderator monitors online chat\, and draws participants in to voice their comments.  The session concludes with reflections in key insights surfaced. \nSlideshows and manifestos are discouraged.  An open systems approach may generate new connections\, both conceptually and socially\, across ISSIP members.  Recordings of each session will be posted on ISSIP video channels. \nReferences: \n\nKOF Swiss Economic Institute (2025) “Is Globalization at its end?” https://kof.ethz.ch/en/forecasts-and-indicators/indicators/kof-globalisation-index.html\nInternational Labour Organization (2025) – processed by Our World in Data https://ourworldindata.org/grapher/share-employment-agriculture-industry-services?tab=table\n\n[/vc_column_text][vc_empty_space][vc_btn title=”REGISTER FOR THIS EVENT” style=”flat” shape=”square” color=”turquoise” link=”url:https%3A%2F%2Fdocs.google.com%2Fforms%2Fd%2Fe%2F1FAIpQLSdpq_AXmOgEH_Zb_wizaYF4ji5byEfiZuG0ayK5Q1nnF5M9Nw%2Fviewform%3Fusp%3Dheader|target:_blank”][/vc_column][/vc_row]
URL:https://issip.org/event/which-service-systems-are-changing-with-globalization-deglobalization/
LOCATION:Virtual
CATEGORIES:Ambassador Panels
ATTACH;FMTTYPE=image/png:https://issip.org/wp-content/uploads/2025/02/Globalization-Event-RT.png
END:VEVENT
END:VCALENDAR