BEGIN:VCALENDAR
VERSION:2.0
PRODID:-//ISSIP - ECPv6.15.17.1//NONSGML v1.0//EN
CALSCALE:GREGORIAN
METHOD:PUBLISH
X-WR-CALNAME:ISSIP
X-ORIGINAL-URL:https://issip.org
X-WR-CALDESC:Events for ISSIP
REFRESH-INTERVAL;VALUE=DURATION:PT1H
X-Robots-Tag:noindex
X-PUBLISHED-TTL:PT1H
BEGIN:VTIMEZONE
TZID:America/New_York
BEGIN:DAYLIGHT
TZOFFSETFROM:-0500
TZOFFSETTO:-0400
TZNAME:EDT
DTSTART:20240310T070000
END:DAYLIGHT
BEGIN:STANDARD
TZOFFSETFROM:-0400
TZOFFSETTO:-0500
TZNAME:EST
DTSTART:20241103T060000
END:STANDARD
BEGIN:DAYLIGHT
TZOFFSETFROM:-0500
TZOFFSETTO:-0400
TZNAME:EDT
DTSTART:20250309T070000
END:DAYLIGHT
BEGIN:STANDARD
TZOFFSETFROM:-0400
TZOFFSETTO:-0500
TZNAME:EST
DTSTART:20251102T060000
END:STANDARD
BEGIN:DAYLIGHT
TZOFFSETFROM:-0500
TZOFFSETTO:-0400
TZNAME:EDT
DTSTART:20260308T070000
END:DAYLIGHT
BEGIN:STANDARD
TZOFFSETFROM:-0400
TZOFFSETTO:-0500
TZNAME:EST
DTSTART:20261101T060000
END:STANDARD
END:VTIMEZONE
BEGIN:VEVENT
DTSTART;TZID=America/New_York:20250624T200000
DTEND;TZID=America/New_York:20250624T210000
DTSTAMP:20260420T043942
CREATED:20250623T131536Z
LAST-MODIFIED:20250623T131908Z
UID:10000115-1750795200-1750798800@issip.org
SUMMARY:Jochen Wirtz Tuesday night at 8 PM ET for ISSIP
DESCRIPTION:ISSIP Welcomes Dr. Jochen Wirtz  Tuesday 24 June at 8 PM ET / 5pm Pacific\, as the coauthor of Generative AI Meets Service Robotics \nThis session will take place on ISSIP Zoom \nJoin Zoom Meeting\nhttps://us02web.zoom.us/j/82742714529?pwd=MhQvfaDOrFYj0ELesC8FzYH6Y53RsI.1 \nMeeting ID: 827 4271 4529\nPasscode: 690677 \nThis session will be moderated by ISSIP Ambassador Kevin Clark who contributed to this paper and includes citations from his book Collective Intelligence in the Age of AI \n  \nJochen Wirtz makes his academic home at the National University of Singapore and is vice dean of the business school – here are additional links to his background and credentials: Jochen Wirtz | About | National University of Singapore | ‪Jochen Wirtz – ‪Google Scholar \nJoin us! \nWirtz and Stock-Homburg\, 2025\, GenAI Meets Service Robots
URL:https://issip.org/event/jochen-wirtz-tuesday-night-at-8-pm-et-for-issip/
CATEGORIES:Ambassador Panels,ISSIP Community
ATTACH;FMTTYPE=image/png:https://issip.org/wp-content/uploads/2025/06/AI-and-Service-Robotics.png
END:VEVENT
END:VCALENDAR