BEGIN:VCALENDAR
VERSION:2.0
PRODID:-//ISSIP - ECPv6.15.17.1//NONSGML v1.0//EN
CALSCALE:GREGORIAN
METHOD:PUBLISH
X-WR-CALNAME:ISSIP
X-ORIGINAL-URL:https://issip.org
X-WR-CALDESC:Events for ISSIP
REFRESH-INTERVAL;VALUE=DURATION:PT1H
X-Robots-Tag:noindex
X-PUBLISHED-TTL:PT1H
BEGIN:VTIMEZONE
TZID:America/Los_Angeles
BEGIN:DAYLIGHT
TZOFFSETFROM:-0800
TZOFFSETTO:-0700
TZNAME:PDT
DTSTART:20230312T100000
END:DAYLIGHT
BEGIN:STANDARD
TZOFFSETFROM:-0700
TZOFFSETTO:-0800
TZNAME:PST
DTSTART:20231105T090000
END:STANDARD
BEGIN:DAYLIGHT
TZOFFSETFROM:-0800
TZOFFSETTO:-0700
TZNAME:PDT
DTSTART:20240310T100000
END:DAYLIGHT
BEGIN:STANDARD
TZOFFSETFROM:-0700
TZOFFSETTO:-0800
TZNAME:PST
DTSTART:20241103T090000
END:STANDARD
BEGIN:DAYLIGHT
TZOFFSETFROM:-0800
TZOFFSETTO:-0700
TZNAME:PDT
DTSTART:20250309T100000
END:DAYLIGHT
BEGIN:STANDARD
TZOFFSETFROM:-0700
TZOFFSETTO:-0800
TZNAME:PST
DTSTART:20251102T090000
END:STANDARD
END:VTIMEZONE
BEGIN:VEVENT
DTSTART;TZID=America/Los_Angeles:20240918T073000
DTEND;TZID=America/Los_Angeles:20240918T083000
DTSTAMP:20260422T084019
CREATED:20240920T174022Z
LAST-MODIFIED:20260320T125349Z
UID:10000096-1726644600-1726648200@issip.org
SUMMARY:MyT-Me T-Shaped Score - Free ISSIP Webinar
DESCRIPTION:Recording: https://youtu.be/I_9CFlSv4FY \nSlides: https://www.slideshare.net/slideshow/20240918-myt-me-t-shaped-skills-in-ai-era-meeting-3-pptx/271884074 \n\nLogin with LinkedIn to try the MyTShape platform now – free to ISSIP community participants. \nTo explore T-shaped skills and T-scores for the AI era [1] [2] [3] \, please join ISSIP Fellow Lou Freund with Jim Spohrer\,  and Pavel Savva as they describe progress on the MyT-Me platform.  Please include your email address below and submit the form. The zoom link will be emailed to you before the meeting begins. \nRegister below by including your email address and submitting the form.  All who register will be sent a link to the event recording and slides after the event\, even if you cannot attend the online event\, and we would value your feedback on this topic. \n[1] Forbes Article: The Shrinking Half-life Of Skills – McKendrick (2024)\n[2] Why T-Shaped Skills Matter More Than Ever in the Era of Generative AI – Boymal (2023)\n[3] AHFE HSSE paper: T-shaped Professionals: The Past\, Present\, and Future of MyT-Me Development – Freund et al (2024)
URL:https://issip.org/event/t-shaped-score-free-issip-webinar/
CATEGORIES:Conferences,Discovery Summits,MyT-Me
ATTACH;FMTTYPE=image/jpeg:https://issip.org/wp-content/uploads/2024/05/myt-me-banner.jpg
END:VEVENT
BEGIN:VEVENT
DTSTART;TZID=America/Los_Angeles:20240925T080000
DTEND;TZID=America/Los_Angeles:20240925T090000
DTSTAMP:20260422T084019
CREATED:20240519T003246Z
LAST-MODIFIED:20240920T182848Z
UID:10000088-1727251200-1727254800@issip.org
SUMMARY:Defining Next Steps:  Research\, Development\, Funding Priorities
DESCRIPTION:[vc_row full_width=”stretch_row_content” remove_bottom_col_margin=”true”][vc_column width=”1/4″][/vc_column][vc_column width=”1/4″][vc_btn title=”REGISTER HERE” style=”flat” shape=”square” color=”turquoise” align=”center” button_block=”true” link=”url:https%3A%2F%2Fdocs.google.com%2Fforms%2Fd%2Fe%2F1FAIpQLSfl222iSrkmLu-uQwBic9nSE08Jtie2f-oJU_DPzZorJuveTw%2Fviewform%3Fusp%3Dsf_link|target:_blank”][/vc_column][vc_column width=”1/4″][vc_btn title=”SHARE YOUR THOUGHTS ON THE TOPIC” style=”flat” shape=”square” color=”turquoise” align=”center” button_block=”true” link=”url:https%3A%2F%2Fdocs.google.com%2Fforms%2Fd%2Fe%2F1FAIpQLSfaLlW5sqTjrQ7jXq8BjUeNQmzHZ260mbNEuGWpBv1NpRXQgg%2Fviewform%3Fusp%3Dsf_link|target:_blank”][/vc_column][vc_column width=”1/4″][/vc_column][/vc_row][vc_row remove_bottom_col_margin=”true”][vc_column][vc_column_text]Next Steps conversation to define further research needs \nThe third and final event in ISSIP’s 2024 Series exploring AI Impacts on Global Democracy will provide a summary of themes and findings to date\, and turn to defining next steps. Our panel will address questions such as: \n\nWhat do we need to better understand and regulate AI to steer it toward ‘good’ usage and benefit to global democracy?\nWhat have been challenges to date and who is responsible for mitigating risks?\nWhat research needs should be prioritized and funded? Discuss variations by geography (e.g. Japan\, EU\, US perspectives … variations in the nature of the fears across geographic region. For example\, in Japan people would characterize fears of\nAI as centered on the opaque ‘black box’ vs. Western fears centering on manipulation and disinformation to manipulate understanding and beliefs of the electorate.\n\n[/vc_column_text][/vc_column][/vc_row][vc_row][vc_column][vc_column_text]\nPanelists:\n[/vc_column_text][/vc_column][/vc_row][vc_row][vc_column width=”1/3″][vc_single_image image=”16969″ img_size=”291×285″][vc_column_text]\nLee Nackman (USA)\n[/vc_column_text][/vc_column][vc_column width=”1/3″][vc_single_image image=”16968″ img_size=”291×285″][vc_column_text]\nPaul Timmers (EU)\n[/vc_column_text][/vc_column][vc_column width=”1/3″][vc_single_image image=”16543″][vc_column_text]\nHiro Hamada (Japan)\n[/vc_column_text][/vc_column][/vc_row][vc_row][vc_column width=”1/5″][/vc_column][vc_column width=”1/5″][vc_column_text] \nLead / Moderator:\nKazuyoshi Shimada – JST\n[/vc_column_text][/vc_column][vc_column width=”1/5″][vc_column_text] \nLead / Moderator: \nChristine Leitner – CEPA\n[/vc_column_text][/vc_column][vc_column width=”1/5″][vc_column_text] \nEvent Contact: \nMichele Carroll – ISSIP\n[/vc_column_text][/vc_column][vc_column width=”1/5″][/vc_column][/vc_row][vc_row full_width=”stretch_row_content” remove_bottom_col_margin=”true”][vc_column width=”1/4″][/vc_column][vc_column width=”1/4″][vc_btn title=”REGISTER HERE” style=”flat” shape=”square” color=”turquoise” align=”center” button_block=”true” link=”url:https%3A%2F%2Fdocs.google.com%2Fforms%2Fd%2Fe%2F1FAIpQLSfl222iSrkmLu-uQwBic9nSE08Jtie2f-oJU_DPzZorJuveTw%2Fviewform%3Fusp%3Dsf_link|target:_blank”][/vc_column][vc_column width=”1/4″][vc_btn title=”SHARE YOUR THOUGHTS ON THE TOPIC” style=”flat” shape=”square” color=”turquoise” align=”center” button_block=”true” link=”url:https%3A%2F%2Fdocs.google.com%2Fforms%2Fd%2Fe%2F1FAIpQLSfaLlW5sqTjrQ7jXq8BjUeNQmzHZ260mbNEuGWpBv1NpRXQgg%2Fviewform%3Fusp%3Dsf_link|target:_blank”][/vc_column][vc_column width=”1/4″][/vc_column][/vc_row]
URL:https://issip.org/event/defining-next-steps-research-development-funding-priorities/
CATEGORIES:Ambassador Panels,Conferences
ATTACH;FMTTYPE=image/png:https://issip.org/wp-content/uploads/2024/05/Defining-Next-Steps-Democracy-Series-Event-3.png
END:VEVENT
END:VCALENDAR