BEGIN:VCALENDAR
VERSION:2.0
PRODID:-//ISSIP - ECPv6.15.17.1//NONSGML v1.0//EN
CALSCALE:GREGORIAN
METHOD:PUBLISH
X-WR-CALNAME:ISSIP
X-ORIGINAL-URL:https://issip.org
X-WR-CALDESC:Events for ISSIP
REFRESH-INTERVAL;VALUE=DURATION:PT1H
X-Robots-Tag:noindex
X-PUBLISHED-TTL:PT1H
BEGIN:VTIMEZONE
TZID:America/Los_Angeles
BEGIN:DAYLIGHT
TZOFFSETFROM:-0800
TZOFFSETTO:-0700
TZNAME:PDT
DTSTART:20230312T100000
END:DAYLIGHT
BEGIN:STANDARD
TZOFFSETFROM:-0700
TZOFFSETTO:-0800
TZNAME:PST
DTSTART:20231105T090000
END:STANDARD
BEGIN:DAYLIGHT
TZOFFSETFROM:-0800
TZOFFSETTO:-0700
TZNAME:PDT
DTSTART:20240310T100000
END:DAYLIGHT
BEGIN:STANDARD
TZOFFSETFROM:-0700
TZOFFSETTO:-0800
TZNAME:PST
DTSTART:20241103T090000
END:STANDARD
BEGIN:DAYLIGHT
TZOFFSETFROM:-0800
TZOFFSETTO:-0700
TZNAME:PDT
DTSTART:20250309T100000
END:DAYLIGHT
BEGIN:STANDARD
TZOFFSETFROM:-0700
TZOFFSETTO:-0800
TZNAME:PST
DTSTART:20251102T090000
END:STANDARD
END:VTIMEZONE
BEGIN:VEVENT
DTSTART;TZID=America/Los_Angeles:20241009T050000
DTEND;TZID=America/Los_Angeles:20241009T053000
DTSTAMP:20260422T145729
CREATED:20240815T195436Z
LAST-MODIFIED:20240818T193651Z
UID:10000092-1728450000-1728451800@issip.org
SUMMARY:Quarterly Welcome of New Participants
DESCRIPTION:[vc_row][vc_column][vc_column_text]NEW TO ISSIP COMMUNITY? PLEASE REGISTER AND JOIN US! (click on ‘REGISTER NOW’ button below) \nOn Wednesday October 9th\, all new participants in ISSIP global community are invited to join a zoom meeting to introduce yourself and connect with each other. All are welcome to join in\, to meet our new participants\, and share your give-get-grow interests and plans\, whether you seek to give in a volunteer service role\, get new skills or knowledge\, or grow a larger network of colleagues. Hosts will be Vaishali Mane\, ISSIP Quarterly Welcome Event Leader\, along with Jim Spohrer\, ISSIP Co-founding Board Director and Michele Carroll\, ISSIP Executive Director. \nWhen: Wednesday\, October 9\, 2024 \nTime A: 5:00 am PT\, 7:00 am CT\, 8:00 am ET\,  14:00 CET\, 21:00 Singapore\nTime B: 5:30pm PT\, 7:30pm CT\, 8:30pm PT\, 2:00 CET\, +1day 9:00 Singapore[/vc_column_text][/vc_column][/vc_row][vc_row][vc_column][vc_btn title=”REGISTER NOW” style=”flat” shape=”square” color=”turquoise” link=”url:https%3A%2F%2Fdocs.google.com%2Fforms%2Fd%2Fe%2F1FAIpQLSdmWs-b6ZwRR3whRTc5ha_d8_iYZRhu4ffZIhNKrKicjkBI3A%2Fviewform|target:_blank”][/vc_column][/vc_row]
URL:https://issip.org/event/quarterly-welcome-of-new-participants/
CATEGORIES:Governance
ATTACH;FMTTYPE=image/png:https://issip.org/wp-content/uploads/2024/08/quarterly-welcome.png
END:VEVENT
END:VCALENDAR